BEGIN:VCALENDAR
VERSION:2.0
METHOD:PUBLISH
BEGIN:VEVENT
ORGANIZER:MAILTO:
DTSTART:20250730T100000Z
DTEND:20250730T110000Z
LOCATION:
SUMMARY:How to use Language Cloud as a Freelancer
DESCRIPTION;ENCODING=QUOTED-PRINTABLE:In this session we will see how to activate, setup and use Trados Cloud as a Freelance user. \n Community-Solutions-Hub-_2D00_-Trados-_2800_2_2900_.png \n \n \n\n\n\n\n\n\n\n\n\n \n \n \n \n \n \n How to use Language Cloud as a Freelancer\n \n \n\n \n Idea Delivered \n \n \n \n \n I&#39;m adding this one too as this is another topic nobody seems to know about and we see questions in the community regularly that might be solved by working online. Even simple things such as being able…\n \n \n \n \n By Paul Filkin over 1 year ago in Community Solutions Hub (Trados) > Ideas for Free Training
X-ALT-DESC;FMTTYPE=text/html:<html><body><p>In this session we will see how to activate, setup and use Trados Cloud as a Freelance user.</p><p><a href="https://zoom.us/meeting/register/gkqineDqQDWYvJBdnZADbA"><a href="https://uat.community.rws.com/resized-image/__size/1800x1200/__key/telligent-evolution-extensions-calendar-calendarfiles/00-00-00-01-13/Community-Solutions-Hub-_2D00_-Trados-_2800_2_2900_.png">Community-Solutions-Hub-_2D00_-Trados-_2800_2_2900_.png</a></a></p><p>&nbsp;<div class="content-peek-inline content-peek-fragment idea">	<style>.content-peek-fragment.idea .ui-vote{position:static;margin:0 10px 0 0}.content-peek-fragment.idea .content-peek-heading .content-peek-name{justify-content:start}.content-peek-fragment.idea .content-peek .content-peek-heading .content-peek-name .content-peek-subtitle{font-weight:600;font-size:1em}</style><div class="content-peek">	<div class="content-peek-heading">		<span  class="ui-presentcontent ui-vote" data-presentcontents="496376d9fede4a83a27254ed963e1175|fb5d84b10a5745448a7a45dafc1faa43|"  data-contentid="496376d9-fede-4a83-a272-54ed963e1175" data-readonly="false" data-initialyesvotes="3" data-initialnovotes="0" data-initialvotes="3" data-initialscore="3" data-allowmultiplevotes="false" data-canuserupvote="false" data-canuserdownvote="false" data-isuserregistered="false" data-isusergroupmember="false" data-loginurl="/login?ReturnUrl=%2Fcommunity-hub%2Fcommunity--solutions-hub%2Fcommunity-solutions-hub-trados%2Fc%2Fe%2F819%2Fexport" ></span>		<div class="content-peek-name">			<div class="content-peek-title">				<a title="How to use Language Cloud as a Freelancer" href="https://uat.community.rws.com/community-hub/community--solutions-hub/community-solutions-hub-trados/i/ideas-for-discussion/how-to-use-language-cloud-as-a-freelancer">					How to use Language Cloud as a Freelancer				</a>			</div>			<div class="content-peek-subtitle idea-status status-idea_delivered">				<span class="attribute-value">Idea Delivered</span>			</div>		</div>	</div>	<div class="content-peek-excerpt">					I&#39;m adding this one too as this is another topic nobody seems to know about and we see questions in the community regularly that might be solved by working online. Even simple things such as being able…			</div>	<div class="content-peek-details">		<div class="content-peek-detail">			<div class="content-peek-detail-component">				By <a href="https://uat.community.rws.com/members/pfilkin" class="internal-link view-user-profile activity-summary-user">Paul Filkin</a> <span class="ui-agodate ui-tip " data-tip="25 Jun 2024 1:59 PM" data-dateutc="2024-06-25T13:59:22.837Z"><time datetime="2024-06-25T13:59:22.837Z">over 1 year ago</time></span> in <a href="https://uat.community.rws.com/community-hub/community--solutions-hub/community-solutions-hub-trados/">Community Solutions Hub (Trados)</a> <span class="hierarchy">></span> <a href="https://uat.community.rws.com/community-hub/community--solutions-hub/community-solutions-hub-trados/i/ideas-for-discussion">Ideas for Free Training</a>			</div>		</div>		<div class="content-peek-detail">														</div>	</div>							</div>	</div>&nbsp;</p></body></html>
CLASS:PUBLIC
END:VEVENT
END:VCALENDAR