BEGIN:VCALENDAR
VERSION:2.0
METHOD:PUBLISH
BEGIN:VEVENT
ORGANIZER:MAILTO:
DTSTART:20240918T060000Z
DTEND:20240918T073000Z
LOCATION:
SUMMARY:How to get started using AutoHotKey
DESCRIPTION;ENCODING=QUOTED-PRINTABLE:pastedimage1723042522542v1.png \n How to get started using AutoHotKey \n With Jesús Prieto and Paul Filkin \n \n \n \n \n\n\n\n\n\n\n\n\n\n \n \n \n \n \n \n How to get started using AutoHotKey\n \n \n\n \n Idea Delivered \n \n \n \n \n I&#39;m adding this idea since many users ask about this in the community and I think a short session on how to get started would be helpful. \n Perhaps if anyone else thinks this would be helpful then at least…\n \n \n \n \n By Paul Filkin over 1 year ago in Community Solutions Hub (Trados) > Ideas for Free Training \n \n\n \n \n \n 1 comment
X-ALT-DESC;FMTTYPE=text/html:<html><body><h1 class="name">&nbsp;<a href="https://attendee.gotowebinar.com/rt/8215176390376593499" rel="noopener noreferrer" target="_blank"><a href="https://uat.community.rws.com/resized-image/__size/1800x1200/__key/telligent-evolution-extensions-calendar-calendarfiles/00-00-00-01-13/pastedimage1723042522542v1.png">pastedimage1723042522542v1.png</a></a></h1><div id="vimeo_tool" class="vimeo_tool"><strong>How to get started using AutoHotKey</strong></div><div class="vimeo_tool">With <a href="https://uat.community.rws.com/members/jesusprieto_5f00_1" data-contentid="197e40fbe2084970939d7d67356d9a79" data-contenttypeid="e9ed411860ed4f2ba0265705b8793d05" class="ui-contentpeek internal-link view-user-profile">Jesús Prieto</a>&nbsp;and <a href="https://uat.community.rws.com/members/pfilkin" data-contentid="b9ae8ac38ee54dbf9947d3168c567eaf" data-contenttypeid="e9ed411860ed4f2ba0265705b8793d05" class="ui-contentpeek internal-link view-user-profile">Paul Filkin</a>&nbsp;</div><div class="vimeo_tool"></div><div id="vtPopupMenu" style="display:none;"></div><div id="vimeo_tool" class="vimeo_tool">&nbsp;<div class="content-peek-inline content-peek-fragment idea">	<style>.content-peek-fragment.idea .ui-vote{position:static;margin:0 10px 0 0}.content-peek-fragment.idea .content-peek-heading .content-peek-name{justify-content:start}.content-peek-fragment.idea .content-peek .content-peek-heading .content-peek-name .content-peek-subtitle{font-weight:600;font-size:1em}</style><div class="content-peek">	<div class="content-peek-heading">		<span  class="ui-presentcontent ui-vote" data-presentcontents="5beb7f6e2ac64dd1b28c952aead4bdf3|fb5d84b10a5745448a7a45dafc1faa43|"  data-contentid="5beb7f6e-2ac6-4dd1-b28c-952aead4bdf3" data-readonly="false" data-initialyesvotes="4" data-initialnovotes="1" data-initialvotes="5" data-initialscore="3" data-allowmultiplevotes="false" data-canuserupvote="false" data-canuserdownvote="false" data-isuserregistered="false" data-isusergroupmember="false" data-loginurl="/login?ReturnUrl=%2Fcommunity-hub%2Fcommunity--solutions-hub%2Fcommunity-solutions-hub-trados%2Fc%2Fe%2F800%2Fexport" ></span>		<div class="content-peek-name">			<div class="content-peek-title">				<a title="How to get started using AutoHotKey" href="https://uat.community.rws.com/community-hub/community--solutions-hub/community-solutions-hub-trados/i/ideas-for-discussion/how-to-get-started-using-autohotkey">					How to get started using AutoHotKey				</a>			</div>			<div class="content-peek-subtitle idea-status status-idea_delivered">				<span class="attribute-value">Idea Delivered</span>			</div>		</div>	</div>	<div class="content-peek-excerpt">					I&#39;m adding this idea since many users ask about this in the community and I think a short session on how to get started would be helpful.  Perhaps if anyone else thinks this would be helpful then at least…			</div>	<div class="content-peek-details">		<div class="content-peek-detail">			<div class="content-peek-detail-component">				By <a href="https://uat.community.rws.com/members/pfilkin" class="internal-link view-user-profile activity-summary-user">Paul Filkin</a> <span class="ui-agodate ui-tip " data-tip="25 Jun 2024 1:57 PM" data-dateutc="2024-06-25T13:57:49.673Z"><time datetime="2024-06-25T13:57:49.673Z">over 1 year ago</time></span> in <a href="https://uat.community.rws.com/community-hub/community--solutions-hub/community-solutions-hub-trados/">Community Solutions Hub (Trados)</a> <span class="hierarchy">></span> <a href="https://uat.community.rws.com/community-hub/community--solutions-hub/community-solutions-hub-trados/i/ideas-for-discussion">Ideas for Free Training</a>			</div>		</div>		<div class="content-peek-detail">																<div class="content-peek-detail-component">															1 comment				</div>					</div>	</div>							</div>	</div>&nbsp;</div><div class="vimeo_tool"></div><div id="vimeo_tool" class="vimeo_tool"></div><div id="vimeo_tool" class="vimeo_tool"></div></body></html>
CLASS:PUBLIC
END:VEVENT
END:VCALENDAR