BEGIN:VCALENDAR
VERSION:2.0
METHOD:PUBLISH
BEGIN:VEVENT
ORGANIZER:MAILTO:
DTSTART:20240710T130000Z
DTEND:20240710T140000Z
LOCATION:
SUMMARY:File options, project settings, language pairs etc.
DESCRIPTION;ENCODING=QUOTED-PRINTABLE:Ana-Maria Matefi and Ana Sabo from our Customer Experience Team will cover this idea: \n \n File options, project settings, language pairs etc . \n \n pastedimage1713456280146v1new.jpg
X-ALT-DESC;FMTTYPE=text/html:<html><body><p>Ana-Maria Matefi and Ana Sabo from our Customer Experience Team will cover this idea:</p><ul><li><a href="https://uat.community.rws.com/community-hub/community--solutions-hub/community-solutions-hub-trados/i/ideas-for-discussion/file-options-project-settings-language-pairs-etc">File options, project settings, language pairs etc</a>.</li></ul><p><a href="https://register.gotowebinar.com/rt/2656902119009826653"><a href="https://uat.community.rws.com/resized-image/__size/1800x1200/__key/telligent-evolution-extensions-calendar-calendarfiles/00-00-00-01-13/pastedimage1713456280146v1new.jpg">pastedimage1713456280146v1new.jpg</a></a></p><div id="vimeo_tool" class="vimeo_tool"></div><div id="vtPopupMenu" style="display:none;"></div><div id="vimeo_tool" class="vimeo_tool"></div></body></html>
CLASS:PUBLIC
END:VEVENT
END:VCALENDAR